BEGIN:VCALENDAR
VERSION:2.0
PRODID:-//pretix//pretix.eu//
BEGIN:VTIMEZONE
TZID:Europe/London
BEGIN:STANDARD
DTSTART:20001029T030000
RRULE:FREQ=YEARLY;BYDAY=-1SU;BYMONTH=10
TZNAME:GMT
TZOFFSETFROM:+0100
TZOFFSETTO:+0000
END:STANDARD
BEGIN:DAYLIGHT
DTSTART:20000326T020000
RRULE:FREQ=YEARLY;BYDAY=-1SU;BYMONTH=3
TZNAME:BST
TZOFFSETFROM:+0000
TZOFFSETTO:+0100
END:DAYLIGHT
END:VTIMEZONE
BEGIN:VEVENT
UID:pretix-eutc-freshers-2021-2637270@tickets.bedlamtheatre.co.uk
DTSTART;TZID=Europe/London:20211023T180000
DTEND;TZID=Europe/London:20211023T193000
DESCRIPTION:Tickets: https://tickets.bedlamtheatre.co.uk/freshers-2021/2637
 270/\nOrganizer: The Edinburgh University Theatre Company
DTSTAMP:20260424T093903Z
LOCATION:Augustine United Church\, 41 George IV Bridge\, Edinburgh EH1 1EL\
 , Royaume-Uni
SUMMARY:6pm\, Freshers Play 2021: The Plays That Never Were
END:VEVENT
END:VCALENDAR
