BEGIN:VCALENDAR
VERSION:2.0
PRODID:-//pretix//pretix.eu//
BEGIN:VTIMEZONE
TZID:Europe/London
BEGIN:STANDARD
DTSTART:20001029T030000
RRULE:FREQ=YEARLY;BYDAY=-1SU;BYMONTH=10
TZNAME:GMT
TZOFFSETFROM:+0100
TZOFFSETTO:+0000
END:STANDARD
BEGIN:DAYLIGHT
DTSTART:20000326T020000
RRULE:FREQ=YEARLY;BYDAY=-1SU;BYMONTH=3
TZNAME:BST
TZOFFSETFROM:+0000
TZOFFSETTO:+0100
END:DAYLIGHT
END:VTIMEZONE
BEGIN:VEVENT
UID:pretix-eutc-theatre-paradok-scratch-night-0@tickets.bedlamtheatre.co.uk
DTSTART;TZID=Europe/London:20260113T193000
DTEND;TZID=Europe/London:20260113T213000
DESCRIPTION:Tickets: https://tickets.bedlamtheatre.co.uk/theatre-paradok-sc
 ratch-night/\nOrganizer: The Edinburgh University Theatre Company
DTSTAMP:20260424T093948Z
LOCATION:Bedlam Theatre\, Edinburgh
SUMMARY:Theatre Paradok Scratch Night
END:VEVENT
END:VCALENDAR
