BEGIN:VCALENDAR
VERSION:2.0
PRODID:-//pretix//pretix.eu//
BEGIN:VTIMEZONE
TZID:Europe/London
BEGIN:STANDARD
DTSTART:20001029T030000
RRULE:FREQ=YEARLY;BYDAY=-1SU;BYMONTH=10
TZNAME:GMT
TZOFFSETFROM:+0100
TZOFFSETTO:+0000
END:STANDARD
BEGIN:DAYLIGHT
DTSTART:20000326T020000
RRULE:FREQ=YEARLY;BYDAY=-1SU;BYMONTH=3
TZNAME:BST
TZOFFSETFROM:+0000
TZOFFSETTO:+0100
END:DAYLIGHT
END:VTIMEZONE
BEGIN:VEVENT
UID:pretix-eutc-translations-3855096@tickets.bedlamtheatre.co.uk
DTSTART;TZID=Europe/London:20230302T193000
DTEND;TZID=Europe/London:20230302T220000
DESCRIPTION:Tickets: https://tickets.bedlamtheatre.co.uk/translations/38550
 96/\nAdmission: 2023-03-02 19:00\nOrganizer: The Edinburgh University Thea
 tre Company
DTSTAMP:20260423T061231Z
LOCATION:Bedlam Theatre\, Edinburgh
SUMMARY:Translations
END:VEVENT
END:VCALENDAR
