BEGIN:VCALENDAR
VERSION:2.0
PRODID:-//pretix//pretix.eu//
BEGIN:VTIMEZONE
TZID:Europe/London
BEGIN:STANDARD
DTSTART:20001029T030000
RRULE:FREQ=YEARLY;BYDAY=-1SU;BYMONTH=10
TZNAME:GMT
TZOFFSETFROM:+0100
TZOFFSETTO:+0000
END:STANDARD
BEGIN:DAYLIGHT
DTSTART:20000326T020000
RRULE:FREQ=YEARLY;BYDAY=-1SU;BYMONTH=3
TZNAME:BST
TZOFFSETFROM:+0000
TZOFFSETTO:+0100
END:DAYLIGHT
END:VTIMEZONE
BEGIN:VEVENT
UID:pretix-eutc-wasted-2687762@tickets.bedlamtheatre.co.uk
DTSTART;TZID=Europe/London:20211126T190000
DTEND;TZID=Europe/London:20211126T203000
DESCRIPTION:Tickets: https://tickets.bedlamtheatre.co.uk/wasted/2687762/\nA
 dmission: 2021-11-26 18:30\nOrganizer: The Edinburgh University Theatre Co
 mpany
DTSTAMP:20260424T111944Z
LOCATION:The Hive\, Edinburgh
SUMMARY:Wasted
END:VEVENT
END:VCALENDAR
