BEGIN:VCALENDAR
VERSION:2.0
PRODID:-//pretix//pretix.eu//
BEGIN:VTIMEZONE
TZID:Europe/London
BEGIN:STANDARD
DTSTART:20001029T030000
RRULE:FREQ=YEARLY;BYDAY=-1SU;BYMONTH=10
TZNAME:GMT
TZOFFSETFROM:+0100
TZOFFSETTO:+0000
END:STANDARD
BEGIN:DAYLIGHT
DTSTART:20000326T020000
RRULE:FREQ=YEARLY;BYDAY=-1SU;BYMONTH=3
TZNAME:BST
TZOFFSETFROM:+0000
TZOFFSETTO:+0100
END:DAYLIGHT
END:VTIMEZONE
BEGIN:VEVENT
UID:pretix-eutc-would-i-lie-to-you-ulster-american-fundraiser-2026-4817752@
 tickets.bedlamtheatre.co.uk
DTSTART;TZID=Europe/London:20260114T193000
DTEND;TZID=Europe/London:20260114T210000
DESCRIPTION:Tickets: https://tickets.bedlamtheatre.co.uk/would-i-lie-to-you
 -ulster-american-fundraiser-2026/4817752/\nOrganizer: The Edinburgh Univer
 sity Theatre Company
DTSTAMP:20260421T003427Z
LOCATION:Bedlam Theatre\, Edinburgh
SUMMARY:Would I Lie To You - Ulster American Fundraiser
END:VEVENT
END:VCALENDAR
